Workbook

Sheet 申込書
A1: 令和８年度後期 職域担当看護職研究会（関東地区） 参加申込書
B4: 開催日時 | D4: 令和９年１月２５日（月） 午前１０時２０分～午後４時３０分
B5: 会 場 | D5: ビジョンセンター新橋 １７０２会議室（東京都千代田区内幸町１－５－２ 内幸町平和ビル17階）
B7: テーマ | D7: 「公務職場における治療と仕事の両立支援～産業保健職の役割 ～」
B9: ※令和８年１２月１５日（火）必着。先着順。※締切後も定員に達していない場合は、随時受付します。
B10: ※参加者１名につき１申込書でお願いします。1つの申込書に複数名分を記入しないでください。
B11: ※申込後１週間を経過しても事務局から連絡がない場合は、お手数ですがご連絡ください。
B12: ※ご記入いただいた個人情報は、当協会が責任をもって適切に管理し、本研究会の円滑かつ的確な運営のためにのみ使用いたします。
B13: 項目 | E13: 記入欄 | I13: 備考
B14: 氏名（漢字）
B15: 氏名（ふりがな）
B16: 都道府県名
B17: 所属団体名
B18: 部課名
B19: 職名
B20: 職種区分
B21: ＴＥＬ
B22: e-mail （半角英数字） | I22: ※受講案内は「kikaku@jalsha.or.jp」から送信します。受信できるよう設定をご確認ください。
I23: ※名簿への記載を希望される場合は、掲載可能なメールアドレスをご記入ください。
B24: 所属団体の区分
B25: 職域担当経験年数 | I25: ※地域保健分野での経験年数は除いてください。
B26: 参加者名簿への記載について | L26: 掲載を希望しない | AA26: FALSE
B27: ※当日、連絡先（電話・メール）を記載した参加者名簿を配付します。名簿への記載を希望されない方はチェックしてください。
B28: 配慮の必要な方へ
B29: ※障害により参加にあたり配慮が必要な方は、配慮の内容についてご記載ください。
B31: 職域担当看護職研究会の幹事について | L31: 幹事に関心がある | AA31: FALSE
B32: ※研究会の企画・運営を行う幹事にご関心がある方はチェックしてください。
B33: ※幹事の主な業務は、研究会テーマ・講師選定等のための事前打合せへの出席、前期・後期の各研究会での討議の進行・フォローです。 研究会の事前準備・当日の運営等、事務局機能は協会が担います。
B35: ○事前アンケート
B36: 本研究会では、「公務職場における治療と仕事の両立支援について考える～産業保健職に求められる役割 ～」をテーマに、グループ討議を行う予定です。
B37: 討議の参考とするため、事前アンケートへのご協力をお願いいたします。
B38: ※ご回答内容は集計の上、参加者間で共有する予定です。記入内容を一部公開（団体名、記入者名は非公開）させていただくことがありますので、予めご了承ください。 また、機微な内容を含む事項については事務局で一部編集させていただくことがありますので予めご了承ください。
B41: １ 直近３年以内に「治療と仕事の両立支援」の対応をした疾病について該当するものをすべて選択してください。
AA42: FALSE | AB42: がん
AA43: FALSE | AB43: メンタルヘルス不調
AA44: FALSE | AB44: 脳卒中
AA45: FALSE | AB45: 肝疾患
AA46: FALSE | AB46: 糖尿病
AA47: FALSE | AB47: 心疾患
AA48: FALSE | AB48: 難病
...

Sheet 吸い出し
A1: ID | B1: 氏名 | C1: しめい | D1: 都道府県 | E1: 所属団体 | F1: ＊ | G1: 部課名 | H1: 職名 | I1: 職種区分 | J1: 電話番号 | K1: e-mail | L1: 団体区分 | M1: 経験年数 | N1: 名簿登載× | O1: 要配慮者 | P1: 幹事への関心 | Q1: １①がん | R1: １②メンタル | S1: １③脳卒中 | T1: １④肝疾患 | U1: １⑤糖尿病 | V1: １⑥心疾患 | W1: １⑦難病 | X1: １⑧その他【具体例】 | Y1: １⑧その他 | Z1: １⑧その他【具体例】 | AA1: ２①本人相談 | AB1: ２②所属長・管理職等相談 | AC1: 2③人事・労務部門との調整 | AD1: ２④産業医との連携 | AE1: ２⑤主治医との連携 | AF1: ２⑥就業上の措置の検討 | AG1: ２⑦休職中の支援 | AH1: 2⑧復職支援 | AI1: ２⑨その他 | AJ1: ２⑨その他（具体的内容） | AK1: ３①主治医との情報共有・連携 | AL1: ②診断書・主治医意見書の解釈 | AM1: ③本人の意向と所属所との調整 | AN1: ④人事・労務部門との調整 | AO1: ⑤就業上の配慮の必要性や範囲の判断 | AP1: ⑥メンタル不調者への対応 | AQ1: ⑦対応方法に関する情報や事例の不足 | AR1: ⑧その他 | AS1: ⑧その他（具体的内容） | AT1: ４ 「困難事例」 | AU1: ５ 「工夫している点」「うまくいった事例」 | AV1: ６ 講師に質問してみたいこと | AW1: ７ 今回のグループ討議で討議したいこと
A2: =申込書!K99 -> 0 | B2: =申込書!$E14 -> 0 | C2: =申込書!$E15 -> 0 | D2: =申込書!$E16 -> 0 | E2: =申込書!E17 -> 0 | G2: =申込書!E18 -> 0 | H2: =申込書!E19 -> 0 | I2: =IF(申込書!E20="その他:こちらの欄に詳細を記載→",申込書!I20,申込書!E20) -> 0 | J2: =申込書!E21 -> 0 | K2: =申込書!E22 -> 0 | L2: =申込書!E24 -> 0 | M2: =申込書!E25 -> 0 | N2: =IF(申込書!$AA$26=TRUE,"×","") | O2: =申込書!C30 -> 0 | P2: =IF(申込書!$AA$31=TRUE,"関心あり","") | Q2: =IF(申込書!$AA$42=TRUE,"〇","") | R2: =IF(申込書!$AA$43=TRUE,"〇","") | S2: =IF(申込書!$AA$44=TRUE,"〇","") | T2: =IF(申込書!$AA$45=TRUE,"〇","") | U2: =IF(申込書!$AA$46=TRUE,"〇","") | V2: =IF(申込書!$AA$47=TRUE,"〇","") | W2: =IF(申込書!$AA$48=TRUE,"〇","") | X2: =申込書!B49 -> （具体的に： ） | Y2: =IF(申込書!$AA$50=TRUE,"〇","") | Z2: =申込書!B51 -> （具体的に： ） | AA2: =IF(申込書!$AA$53=TRUE,"〇","") | AB2: =IF(申込書!$AA$54=TRUE,"〇","") | AC2: =IF(申込書!$AA$55=TRUE,"〇","") | AD2: =IF(申込書!$AA$56=TRUE,"〇","") | AE2: =IF(申込書!$AA$57=TRUE,"〇","") | AF2: =IF(申込書!$AA$58=TRUE,"〇","") | AG2: =IF(申込書!$AA$59=TRUE,"〇","") | AH2: =IF(申込書!$AA$60=TRUE,"〇","") | AI2: =IF(申込書!$AA$61=TRUE,"〇","") | AJ2: =申込書!B62 -> （具体的に： ） | AK2: =IF(申込書!$AA$64=TRUE,"〇","") | AL2: =IF(申込書!$AA$65=TRUE,"〇","") | AM2: =IF(申込書!$AA$66=TRUE,"〇","") | AN2: =IF(申込書!$AA$67=TRUE,"〇","") | AO2: =IF(申込書!$AA$68=TRUE,"〇","") | AP2: =IF(申込書!$AA$69=TRUE,"〇","") | AQ2: =IF(申込書!$AA$70=TRUE,"〇","") | AR2: =IF(申込書!$AA$71=TRUE,"〇","") | AS2: =申込書!B72 -> （具体的に： ） | AT2: =申込書!C76 -> 0 | AU2: =申込書!C79 -> 0 | AV2: =申込書!C81 -> 0 | AW2: =申込書!C83 -> 0
